BEGIN:VCALENDAR
VERSION:2.0
PRODID:-//Survive and Thrive - ECPv6.15.20//NONSGML v1.0//EN
CALSCALE:GREGORIAN
METHOD:PUBLISH
X-ORIGINAL-URL:https://surviveandthriveadvocacy.org
X-WR-CALDESC:Events for Survive and Thrive
REFRESH-INTERVAL;VALUE=DURATION:PT1H
X-Robots-Tag:noindex
X-PUBLISHED-TTL:PT1H
BEGIN:VTIMEZONE
TZID:America/New_York
BEGIN:DAYLIGHT
TZOFFSETFROM:-0500
TZOFFSETTO:-0400
TZNAME:EDT
DTSTART:20220313T070000
END:DAYLIGHT
BEGIN:STANDARD
TZOFFSETFROM:-0400
TZOFFSETTO:-0500
TZNAME:EST
DTSTART:20221106T060000
END:STANDARD
BEGIN:DAYLIGHT
TZOFFSETFROM:-0500
TZOFFSETTO:-0400
TZNAME:EDT
DTSTART:20230312T070000
END:DAYLIGHT
BEGIN:STANDARD
TZOFFSETFROM:-0400
TZOFFSETTO:-0500
TZNAME:EST
DTSTART:20231105T060000
END:STANDARD
BEGIN:DAYLIGHT
TZOFFSETFROM:-0500
TZOFFSETTO:-0400
TZNAME:EDT
DTSTART:20240310T070000
END:DAYLIGHT
BEGIN:STANDARD
TZOFFSETFROM:-0400
TZOFFSETTO:-0500
TZNAME:EST
DTSTART:20241103T060000
END:STANDARD
END:VTIMEZONE
BEGIN:VEVENT
DTSTART;TZID=America/New_York:20230217T130000
DTEND;TZID=America/New_York:20230217T143000
DTSTAMP:20260421T150644
CREATED:20230210T162633Z
LAST-MODIFIED:20240913T190138Z
UID:8504-1676638800-1676644200@surviveandthriveadvocacy.org
SUMMARY:Human Trafficking and Disabilities: What We Need to Know
DESCRIPTION:Without adequate social accommodations and supports to create equity\, persons with disabilities may be vulnerable to exploitation\, including human trafficking. Vulnerabilities may include a lack of access to human trafficking awareness training\, legal and victims’ rights advocacy\, mental health education and services\, societal isolation\, and economic support resources as well as challenges with reporting abuse\, all of which increase the risk of exploitation. This program will explore human trafficking and disability advocacy realities and what we can do to take action. This discussion is a complement to the hybrid January 26\, 2023 program\, “The Intersection of Human Trafficking and Persons With Disabilities” and will go deeper\, exploring – but not repeating – issues raised there. You do not have to have attended the January 26 program to benefit and learn\, but if you wish to view it in advance\, you may do so here: https://surviveandthriveadvocacy.org/training-education-resources/ \nSpeakers: \nLiz Kimbel\, Program Specialist\, The Restoring Ivy Collective\nCocoEva Soleil LuzGuerrero Alcazar\, Consultant with AveMagnolia Consulting\nAshante Taylorcox\, MA-MHC\, LPC\, Founder and Executive Director\, You Are More Than\, Inc \n  \n\n\nSTAC needs your support to sustain these important webinars. Will you donate today? Each gift helps to bring this vital information to the many people who are empowering survivors and preventing human trafficking. The only way we can maintain these programs and this work is with YOUR help.\nSuggested donation: $20
URL:https://surviveandthriveadvocacy.org/events/human-trafficking-and-disabilities-what-we-need-to-know/
CATEGORIES:Training and Awareness
ATTACH;FMTTYPE=image/png:https://surviveandthriveadvocacy.org/wp-content/uploads/2023/02/HT-and-Disabilities-What-We-Need-to-Know-1.png
END:VEVENT
END:VCALENDAR