BEGIN:VCALENDAR
VERSION:2.0
PRODID:-//Survive and Thrive - ECPv6.15.20//NONSGML v1.0//EN
CALSCALE:GREGORIAN
METHOD:PUBLISH
X-ORIGINAL-URL:https://surviveandthriveadvocacy.org
X-WR-CALDESC:Events for Survive and Thrive
REFRESH-INTERVAL;VALUE=DURATION:PT1H
X-Robots-Tag:noindex
X-PUBLISHED-TTL:PT1H
BEGIN:VTIMEZONE
TZID:America/New_York
BEGIN:DAYLIGHT
TZOFFSETFROM:-0500
TZOFFSETTO:-0400
TZNAME:EDT
DTSTART:20210314T070000
END:DAYLIGHT
BEGIN:STANDARD
TZOFFSETFROM:-0400
TZOFFSETTO:-0500
TZNAME:EST
DTSTART:20211107T060000
END:STANDARD
BEGIN:DAYLIGHT
TZOFFSETFROM:-0500
TZOFFSETTO:-0400
TZNAME:EDT
DTSTART:20220313T070000
END:DAYLIGHT
BEGIN:STANDARD
TZOFFSETFROM:-0400
TZOFFSETTO:-0500
TZNAME:EST
DTSTART:20221106T060000
END:STANDARD
BEGIN:DAYLIGHT
TZOFFSETFROM:-0500
TZOFFSETTO:-0400
TZNAME:EDT
DTSTART:20230312T070000
END:DAYLIGHT
BEGIN:STANDARD
TZOFFSETFROM:-0400
TZOFFSETTO:-0500
TZNAME:EST
DTSTART:20231105T060000
END:STANDARD
END:VTIMEZONE
BEGIN:VEVENT
DTSTART;TZID=America/New_York:20220415T130000
DTEND;TZID=America/New_York:20220415T143000
DTSTAMP:20260425T221107
CREATED:20220329T133250Z
LAST-MODIFIED:20240913T192323Z
UID:7605-1650027600-1650033000@surviveandthriveadvocacy.org
SUMMARY:Human Trafficking and Substance Use
DESCRIPTION:This free webinar one of the “Third Friday” community training events hosted by BBCAHT and STAC to inform and engage the North Florida community and beyond. We are happy to extend this invitation to friends and colleagues –  please join us!  \nHT and Substance Abuse Powerpoint  \nSubstance use and human trafficking occur together very often. Traffickers use drugs and alcohol to groom\, lure\, manipulate\, and control the people they are trafficking. Victims and survivors who are substance dependent are targeted by traffickers because of this vulnerability. How can those who work with adults or youth who are sex and labor trafficked understand how to best support survivors who have substance use disorders? What do substance use disorder professionals need to know about human trafficking? How can we all do more to understand the intersection of substance use and trauma and how this can impact survivors over the short and long terms? Presenters will cover these issues and will provide ample time for discussion and questions. \n  \nPresenters: Kristina Bailey\, Human Trafficking Program Coordinator\, International Rescue Committee; Graciela Marquina\, Community Services Advocate\, STAC; Robin Silberman\, Survivor Mentor\, Whole Child Leon\, Open Doors Outreach Network. Moderator: Robin Hassler Thompson\, Executive Director\, STAC.  \nSponsors: STAC in affiliation with Big Bend Coalition Against Human Trafficking and the International Rescue Committee. Contact: STAC at stac@surviveandthriveadvocacy.org or 850-597-2080\nAUDIO will be provided through your computer. \nAttendance will be limited to the first 1\,000 people who join this event. Please join early.\nClick here to register with us for this meeting or copy and paste this link into your browser: https://tinyurl.com/2p86najt  \nIf you have technical questions or concerns\, please contact Center Support staff at centersupport@usf.edu  \n  \n\n  \nSTAC needs your support to sustain these important webinars. Will you donate today? Each gift helps to bring this vital information to the many people who are empowering survivors and preventing human trafficking. The only way we can maintain these programs and this work is with YOUR help.\nSuggested donation: $20
URL:https://surviveandthriveadvocacy.org/events/human-trafficking-and-substance-use/
CATEGORIES:Training and Awareness
ATTACH;FMTTYPE=image/png:https://surviveandthriveadvocacy.org/wp-content/uploads/2022/03/Human-Trafficking-and-Substance-Use.png
END:VEVENT
BEGIN:VEVENT
DTSTART;TZID=America/New_York:20220427T120000
DTEND;TZID=America/New_York:20220427T130000
DTSTAMP:20260425T221107
CREATED:20220425T184838Z
LAST-MODIFIED:20220425T184838Z
UID:7663-1651060800-1651064400@surviveandthriveadvocacy.org
SUMMARY:Holistic Approaches to Health & Wellness for Trafficking Survivors Webinar
DESCRIPTION:From animal therapy\, to chiropractic care\, to yoga and more\, there are many health and wellness-based interventions available to support trafficking survivors through their journey to overcoming trauma. This webinar will provide attendees an understanding of how trauma lives in the body and overview various forms of health-centered approaches to healing. \n Webinar Registration\nPanelists Include:\n• Bradel Canfield\, Kristi House\n• Jessica Donnelly\, AP\, Grace\, Love & Acupuncture\n• Deborah Foote\, Voices for Florida\n• Mollie Gordon\, MA\, MD\, Baylor College of Medicine\n• Dr. Sarah Helms\, Daughters of Worth\n• Shiva Thompson\, Yoga 4 Change \nTo support our work providing high quality webinars like these to increase awareness of sex trafficking\, please make a donation today: www.voicesforflorida.org/donate/
URL:https://surviveandthriveadvocacy.org/events/holistic-approaches-to-health-wellness-for-trafficking-survivors-webinar/
CATEGORIES:Survivors,Training and Awareness
END:VEVENT
BEGIN:VEVENT
DTSTART;TZID=America/New_York:20220428T140000
DTEND;TZID=America/New_York:20220428T153000
DTSTAMP:20260425T221107
CREATED:20220413T165232Z
LAST-MODIFIED:20220725T193623Z
UID:7625-1651154400-1651159800@surviveandthriveadvocacy.org
SUMMARY:Labor Trafficking Service Delivery Webinar Series: Naming and Healing From Trauma by FRAMEWORK
DESCRIPTION:Download the Presentation_Trauma \nThis 90-minute event\, will provide in-depth knowledge of labor trafficking trauma and post-traumatic growth experiences. Topics include research on the trauma\, survivor stories on the importance of naming trafficking experiences\, and practical recommendations to develop client policies and procedures. \nIs this webinar right for me? This training is tailored for anti-trafficking service providers with existing knowledge of labor trafficking\, trauma\, and survivor service delivery. \nSPEAKERS: \nEva Eakins (They/ Them) is a grassroots social justice advocate\, a prevention educator and a mental health Peer Support Specialist with a lived-experience working to raise awareness on human trafficking issues in the United States. Eva’s focus is survivors who are children and young people. Eva has worked for the County mental health care systems to identify at-risk youth and worked to connect them with services. \nCharlee Borg (She/Hers ) With her extensive experience in designing\, implementing\, and managing national and international anti-trafficking programs across sectors\, Charlee weaves first-hand knowledge from over ten years serving survivors of human trafficking to create engaging and relevant training materials. Prior to Framework\, Charlee built agency\, regional\, and state anti-trafficking capacity across the U.S. while consulting as a cross-cultural trauma and crisis response specialist. She has aided human trafficking survivors nationally and internationally by developing and managing programs\, providing crisis and long-term therapy interventions\, and supporting survivors and organizations better partner together. Charlee received her M.A. in International Disaster Psychology: Trauma and Global Mental Health from the University of Denver with a certificate in Program Development and Evaluation. \n 
URL:https://surviveandthriveadvocacy.org/events/naming-and-healing-from-trauma/
CATEGORIES:Survivors
END:VEVENT
BEGIN:VEVENT
DTSTART;TZID=America/New_York:20220428T150000
DTEND;TZID=America/New_York:20220428T160000
DTSTAMP:20260425T221107
CREATED:20220329T151908Z
LAST-MODIFIED:20220329T151908Z
UID:7608-1651158000-1651161600@surviveandthriveadvocacy.org
SUMMARY:Ask an Expert Series Webinar: Male Victims and Human Trafficking
DESCRIPTION:Register for a live\, no-cost Ask an Expert webinar on Thursday\, April 28\, from 3 to 4 p.m. (Eastern). \nWhat services and support are needed for men and boys who experience human trafficking? How are these services different from their female counterparts? Ensuring equity and inclusion of services for all individuals who experience human trafficking means addressing the needs of men and boys. Join three national experts for a discussion on men and boys’ experiences with sex and labor trafficking. Panelists will share their insight on needed services\, how to talk about human trafficking and develop outreach materials in ways that are inclusive of males\, and where to find additional resources on this topic. \nModerated by Suleman Masood\, NHTTAC Senior Training and Technical Assistance Specialist\, the session will feature insight from: \n\nBandak Lul\, Human Trafficking Expert\nLenny Hayes\, M.A.\, Owner\, Tate Topa Consulting\nSteven Procopio\, ACSW\, LICSW\n\nThis webinar is part of the Ask an Expert series sponsored by the Office for Victims of Crime’s Human Trafficking Capacity Building Center. This webinar is offered in partnership with the Office on Trafficking in Persons’ National Human Trafficking Training and Technical Assistance Center. \nTo attend the Ask an Expert webinar\, please register using the following link: \n Webinar Registration
URL:https://surviveandthriveadvocacy.org/events/ask-an-expert-series-webinar-male-victims-and-human-trafficking/
CATEGORIES:Training and Awareness
END:VEVENT
BEGIN:VEVENT
DTSTART;TZID=America/New_York:20220428T150000
DTEND;TZID=America/New_York:20220428T163000
DTSTAMP:20260425T221107
CREATED:20220426T150542Z
LAST-MODIFIED:20220426T151343Z
UID:7665-1651158000-1651163400@surviveandthriveadvocacy.org
SUMMARY:NHTTAC - Ask an Expert: Male Victims and Human Trafficking
DESCRIPTION:National Human Trafficking Training and Technical Assistance Center (NHTTAC) \nAsk an Expert Series Webinar: Male Victims and Human Trafficking \nRegister for a live\, no-cost Ask an Expert webinar on Thursday\, April 28\, from 3 to 4 p.m. (Eastern). \nWhat services and support are needed for men and boys who experience human trafficking? How are these services different from their female counterparts? Ensuring equity and inclusion of services for all individuals who experience human trafficking means addressing the needs of men and boys. Join three national experts for a discussion on men and boys’ experiences with sex and labor trafficking. Panelists will share their insight on needed services\, how to talk about human trafficking and develop outreach materials in ways that are inclusive of males\, and where to find additional resources on this topic. \nModerated by Suleman Masood\, NHTTAC Senior Training and Technical Assistance Specialist\, the session will feature insight from: \n\nBandak Lul\, Human Trafficking Expert\nLenny Hayes\, M.A.\, Owner\, Tate Topa Consulting\nSteven Procopio\, ACSW\, LICSW\n\nThis webinar is part of the Ask an Expert series sponsored by the Office for Victims of Crime’s Human Trafficking Capacity Building Center. This webinar is offered in partnership with the Office on Trafficking in Persons’ National Human Trafficking Training and Technical Assistance Center. \nTo attend the Ask an Expert webinar\, please register using the following link: \n Webinar Registration
URL:https://surviveandthriveadvocacy.org/events/nhttac-ask-an-expert-male-victims-and-human-trafficking/
CATEGORIES:Training and Awareness
ATTACH;FMTTYPE=image/jpeg:https://surviveandthriveadvocacy.org/wp-content/uploads/2022/04/Serious-african-american-father.jpg
END:VEVENT
END:VCALENDAR