BEGIN:VCALENDAR
VERSION:2.0
PRODID:-//Survive and Thrive - ECPv6.15.20//NONSGML v1.0//EN
CALSCALE:GREGORIAN
METHOD:PUBLISH
X-WR-CALNAME:Survive and Thrive
X-ORIGINAL-URL:https://surviveandthriveadvocacy.org
X-WR-CALDESC:Events for Survive and Thrive
REFRESH-INTERVAL;VALUE=DURATION:PT1H
X-Robots-Tag:noindex
X-PUBLISHED-TTL:PT1H
BEGIN:VTIMEZONE
TZID:America/New_York
BEGIN:DAYLIGHT
TZOFFSETFROM:-0500
TZOFFSETTO:-0400
TZNAME:EDT
DTSTART:20240310T070000
END:DAYLIGHT
BEGIN:STANDARD
TZOFFSETFROM:-0400
TZOFFSETTO:-0500
TZNAME:EST
DTSTART:20241103T060000
END:STANDARD
BEGIN:DAYLIGHT
TZOFFSETFROM:-0500
TZOFFSETTO:-0400
TZNAME:EDT
DTSTART:20250309T070000
END:DAYLIGHT
BEGIN:STANDARD
TZOFFSETFROM:-0400
TZOFFSETTO:-0500
TZNAME:EST
DTSTART:20251102T060000
END:STANDARD
BEGIN:DAYLIGHT
TZOFFSETFROM:-0500
TZOFFSETTO:-0400
TZNAME:EDT
DTSTART:20260308T070000
END:DAYLIGHT
BEGIN:STANDARD
TZOFFSETFROM:-0400
TZOFFSETTO:-0500
TZNAME:EST
DTSTART:20261101T060000
END:STANDARD
END:VTIMEZONE
BEGIN:VEVENT
DTSTART;TZID=America/New_York:20251108T120000
DTEND;TZID=America/New_York:20251108T150000
DTSTAMP:20260424T174211
CREATED:20251027T182905Z
LAST-MODIFIED:20251027T182905Z
UID:10946-1762603200-1762614000@surviveandthriveadvocacy.org
SUMMARY:Pro Bono Legal Clinic for Trafficking Survivors
DESCRIPTION:On Saturday\, November 8\, 2025\, the D.C. Women’s Bar Association\, the National Center for Missing and Exploited Children (NCMEC)\, and the Human Trafficking Legal Center will hold a free\, in-person legal clinic for trafficking survivors seeking remission under the U.S. Department of Justice Backpage Remission Program. The clinic will be held in the offices of Baker McKenzie\, a pro bono law firm\, in Washington\, DC. \nFor survivors seeking restitution outside of the Washington\, D.C. area\, NCMEC has arranged for 30 pro bono law firms across the country to provide free legal support to applicants through the Backpage Remission Network. If you are interested\, you can sign up for pro bono representation through the NCMEC portal at https://www.backpageremissionnetwork.org/#form. \nSaturday\, November 8\, 2025 from 12:00pm-3:00pm\nBaker McKenzie Office\n815 Connecticut Ave\, NW\nWashington\, DC 20006
URL:https://surviveandthriveadvocacy.org/events/pro-bono-legal-clinic-for-trafficking-survivors/
LOCATION:Baker McKenzie Office\, 815 Connecticut Ave\, NW\, Washington\, DC\, 20006\, United States
CATEGORIES:Training and Awareness
ATTACH;FMTTYPE=image/png:https://surviveandthriveadvocacy.org/wp-content/uploads/2025/10/Pro-Bono-Legal-clinic-for-Trafficking-Survivors-graphic-scaled.png
END:VEVENT
END:VCALENDAR