BEGIN:VCALENDAR
VERSION:2.0
PRODID:-//Survive and Thrive - ECPv6.15.20//NONSGML v1.0//EN
CALSCALE:GREGORIAN
METHOD:PUBLISH
X-ORIGINAL-URL:https://surviveandthriveadvocacy.org
X-WR-CALDESC:Events for Survive and Thrive
REFRESH-INTERVAL;VALUE=DURATION:PT1H
X-Robots-Tag:noindex
X-PUBLISHED-TTL:PT1H
BEGIN:VTIMEZONE
TZID:America/New_York
BEGIN:DAYLIGHT
TZOFFSETFROM:-0500
TZOFFSETTO:-0400
TZNAME:EDT
DTSTART:20230312T070000
END:DAYLIGHT
BEGIN:STANDARD
TZOFFSETFROM:-0400
TZOFFSETTO:-0500
TZNAME:EST
DTSTART:20231105T060000
END:STANDARD
BEGIN:DAYLIGHT
TZOFFSETFROM:-0500
TZOFFSETTO:-0400
TZNAME:EDT
DTSTART:20240310T070000
END:DAYLIGHT
BEGIN:STANDARD
TZOFFSETFROM:-0400
TZOFFSETTO:-0500
TZNAME:EST
DTSTART:20241103T060000
END:STANDARD
BEGIN:DAYLIGHT
TZOFFSETFROM:-0500
TZOFFSETTO:-0400
TZNAME:EDT
DTSTART:20250309T070000
END:DAYLIGHT
BEGIN:STANDARD
TZOFFSETFROM:-0400
TZOFFSETTO:-0500
TZNAME:EST
DTSTART:20251102T060000
END:STANDARD
BEGIN:DAYLIGHT
TZOFFSETFROM:-0500
TZOFFSETTO:-0400
TZNAME:EDT
DTSTART:20260308T070000
END:DAYLIGHT
BEGIN:STANDARD
TZOFFSETFROM:-0400
TZOFFSETTO:-0500
TZNAME:EST
DTSTART:20261101T060000
END:STANDARD
END:VTIMEZONE
BEGIN:VEVENT
DTSTART;VALUE=DATE:20241001
DTEND;VALUE=DATE:20250401
DTSTAMP:20260421T172056
CREATED:20240930T155248Z
LAST-MODIFIED:20240930T155248Z
UID:9980-1727740800-1743465599@surviveandthriveadvocacy.org
SUMMARY:Human Trafficking Summit
DESCRIPTION:The Human Trafficking Summit will launch tomorrow\, Tuesday\, October 1st\, 2024\, and will remain available through March 2025. Please check your email early in the morning for directions on how to access the summit. \n  \nWe look forward to the learning opportunities created at the Human Trafficking Summit allowing Florida to continue working to protect victims\, prevent trafficking\, and prosecute traffickers.  \n\n\n\n\n\n\n\n\n\n\n\n\n\n\n\n\n\n\n\n\n\n\n\n\n\n\n\n\n\n\n\n\n\n\n\n\n\n\n\n\n\n\n\n\n\n\n\n\n\n\nFor more information and to find answers to\nFrequently Asked Questions\, visit our website. 
URL:https://surviveandthriveadvocacy.org/events/human-trafficking-summit-2/
CATEGORIES:Training and Awareness
END:VEVENT
BEGIN:VEVENT
DTSTART;VALUE=DATE:20250101
DTEND;VALUE=DATE:20250201
DTSTAMP:20260421T172056
CREATED:20250107T193511Z
LAST-MODIFIED:20250107T193511Z
UID:10207-1735689600-1738367999@surviveandthriveadvocacy.org
SUMMARY:Race for Prevention: Human Trafficking Awareness Virtual Race (Jan 1-31)
DESCRIPTION:The International Rescue Committee in Florida is hosting its 3rd Annual Race for Prevention! \nWhat is Human Trafficking? Human trafficking is a crime where individuals are exploited for forced labor\, services\, or commercial sex. It involves using force\, fraud\, or coercion to control victims\, either for sex or labor. Victims may be subjected to conditions like involuntary servitude\, debt bondage\, or slavery\, and it can affect both adults and minors. \nHow does the IRC in Florida help? Since 2003\, the IRC in Florida has provided comprehensive services to survivors of labor and sex trafficking in South Florida and Big Bend regions. A team of caseworkers provide high quality services to address the individualized needs provided to all trafficking survivors; collaborate with local partners\, including law enforcement\, to ensure a coordinated community response to survivors of human trafficking\, including through training and community awareness building; and assist with or refer human trafficking survivors to other essential services. To date\, we have served approximately 950+ survivors. \nWhat is the Race? The Race for Prevention is a virtual race where your physical activity contributes to raising awareness and support for the IRC in Florida’s mission to combat human trafficking. Track your miles or time through RunSignUp as you exercise in any way you prefer—walk\, run\, bike\, swim\, roll (skates\, wheelchair\, handcycle\, etc.)\, or more! Every step you take is a step toward prevention. Unlike traditional races\, a virtual race allows you to track your activity from anywhere\, at your own pace\, throughout the month. You’re not limited by location or time\, and you can move in a way that works for you. Plus\, as you log your miles\, you’ll see your progress in real-time! \nLEARN MORE
URL:https://surviveandthriveadvocacy.org/events/race-for-prevention-human-trafficking-awareness-virtual-race-jan-1-31/
CATEGORIES:Training and Awareness
END:VEVENT
END:VCALENDAR