BEGIN:VCALENDAR
VERSION:2.0
PRODID:-//Survive and Thrive - ECPv6.15.20//NONSGML v1.0//EN
CALSCALE:GREGORIAN
METHOD:PUBLISH
X-WR-CALNAME:Survive and Thrive
X-ORIGINAL-URL:https://surviveandthriveadvocacy.org
X-WR-CALDESC:Events for Survive and Thrive
REFRESH-INTERVAL;VALUE=DURATION:PT1H
X-Robots-Tag:noindex
X-PUBLISHED-TTL:PT1H
BEGIN:VTIMEZONE
TZID:America/New_York
BEGIN:DAYLIGHT
TZOFFSETFROM:-0500
TZOFFSETTO:-0400
TZNAME:EDT
DTSTART:20220313T070000
END:DAYLIGHT
BEGIN:STANDARD
TZOFFSETFROM:-0400
TZOFFSETTO:-0500
TZNAME:EST
DTSTART:20221106T060000
END:STANDARD
BEGIN:DAYLIGHT
TZOFFSETFROM:-0500
TZOFFSETTO:-0400
TZNAME:EDT
DTSTART:20230312T070000
END:DAYLIGHT
BEGIN:STANDARD
TZOFFSETFROM:-0400
TZOFFSETTO:-0500
TZNAME:EST
DTSTART:20231105T060000
END:STANDARD
BEGIN:DAYLIGHT
TZOFFSETFROM:-0500
TZOFFSETTO:-0400
TZNAME:EDT
DTSTART:20240310T070000
END:DAYLIGHT
BEGIN:STANDARD
TZOFFSETFROM:-0400
TZOFFSETTO:-0500
TZNAME:EST
DTSTART:20241103T060000
END:STANDARD
END:VTIMEZONE
BEGIN:VEVENT
DTSTART;TZID=America/New_York:20231003T090000
DTEND;TZID=America/New_York:20231003T170000
DTSTAMP:20260423T215857
CREATED:20230929T194400Z
LAST-MODIFIED:20230929T194400Z
UID:9002-1696323600-1696352400@surviveandthriveadvocacy.org
SUMMARY:Florida’s Human Trafficking Summit
DESCRIPTION:Florida’s Human Trafficking Summit brings together local\, state\, and national leaders working to eradicate all forms of trafficking. Learning opportunities created at the Human Trafficking Summit will allow Florida to continue working to protect victims\, prevent trafficking\, and prosecute traffickers. \n Register Now
URL:https://surviveandthriveadvocacy.org/events/floridas-human-trafficking-summit/
CATEGORIES:Training and Awareness
END:VEVENT
END:VCALENDAR