BEGIN:VCALENDAR
VERSION:2.0
PRODID:-//Survive and Thrive - ECPv6.15.20//NONSGML v1.0//EN
CALSCALE:GREGORIAN
METHOD:PUBLISH
X-WR-CALNAME:Survive and Thrive
X-ORIGINAL-URL:https://surviveandthriveadvocacy.org
X-WR-CALDESC:Events for Survive and Thrive
REFRESH-INTERVAL;VALUE=DURATION:PT1H
X-Robots-Tag:noindex
X-PUBLISHED-TTL:PT1H
BEGIN:VTIMEZONE
TZID:America/New_York
BEGIN:DAYLIGHT
TZOFFSETFROM:-0500
TZOFFSETTO:-0400
TZNAME:EDT
DTSTART:20220313T070000
END:DAYLIGHT
BEGIN:STANDARD
TZOFFSETFROM:-0400
TZOFFSETTO:-0500
TZNAME:EST
DTSTART:20221106T060000
END:STANDARD
BEGIN:DAYLIGHT
TZOFFSETFROM:-0500
TZOFFSETTO:-0400
TZNAME:EDT
DTSTART:20230312T070000
END:DAYLIGHT
BEGIN:STANDARD
TZOFFSETFROM:-0400
TZOFFSETTO:-0500
TZNAME:EST
DTSTART:20231105T060000
END:STANDARD
BEGIN:DAYLIGHT
TZOFFSETFROM:-0500
TZOFFSETTO:-0400
TZNAME:EDT
DTSTART:20240310T070000
END:DAYLIGHT
BEGIN:STANDARD
TZOFFSETFROM:-0400
TZOFFSETTO:-0500
TZNAME:EST
DTSTART:20241103T060000
END:STANDARD
END:VTIMEZONE
BEGIN:VEVENT
DTSTART;VALUE=DATE:20230920
DTEND;VALUE=DATE:20230923
DTSTAMP:20260423T173350
CREATED:20230601T215901Z
LAST-MODIFIED:20230601T220115Z
UID:8747-1695168000-1695427199@surviveandthriveadvocacy.org
SUMMARY:20th Annual International Human Trafficking & Social Justice Conference
DESCRIPTION:Join us for the 20th Annual International Human Trafficking & Social Justice Conference hosted virtually on September 20-22\, 2023. \n Register for the conference!\nYou don’t want to miss this one. TWENTY years strong! \nYou are invited to virtually connect with our growing community of global anti-trafficking advocates committed to social justice. This year will be our largest conference to date with 115+ live and on-demand webinars to rewatch & access for up to three weeks after the conference! \nOur virtual 3-day conference will not only include the latest information from experts in the field of human trafficking and social justice\, but will also feature virtual vendors booths\, art exhibits\, networking opportunities\, and giveaways! \nThis year will be our 20th anniversary! \nTo make this year extra special\, we will be hosting a Virtual Kick-Off Event on Tuesday\, September 19th @ 6-7 pm Eastern Time. We will also be launching our exclusive 20th anniversary t-shirt which you could have a chance to win or purchase for yourself. \n Register for the conference!
URL:https://surviveandthriveadvocacy.org/events/20-annual-international-human-trafficking-social-justice-conference/
CATEGORIES:Training and Awareness
ATTACH;FMTTYPE=image/png:https://surviveandthriveadvocacy.org/wp-content/uploads/2023/06/20th-Annual-International-Human-Trafficking-Social-Justice-Conference.png
END:VEVENT
END:VCALENDAR