BEGIN:VCALENDAR
VERSION:2.0
PRODID:-//Survive and Thrive - ECPv6.15.20//NONSGML v1.0//EN
CALSCALE:GREGORIAN
METHOD:PUBLISH
X-WR-CALNAME:Survive and Thrive
X-ORIGINAL-URL:https://surviveandthriveadvocacy.org
X-WR-CALDESC:Events for Survive and Thrive
REFRESH-INTERVAL;VALUE=DURATION:PT1H
X-Robots-Tag:noindex
X-PUBLISHED-TTL:PT1H
BEGIN:VTIMEZONE
TZID:America/New_York
BEGIN:DAYLIGHT
TZOFFSETFROM:-0500
TZOFFSETTO:-0400
TZNAME:EDT
DTSTART:20200308T070000
END:DAYLIGHT
BEGIN:STANDARD
TZOFFSETFROM:-0400
TZOFFSETTO:-0500
TZNAME:EST
DTSTART:20201101T060000
END:STANDARD
BEGIN:DAYLIGHT
TZOFFSETFROM:-0500
TZOFFSETTO:-0400
TZNAME:EDT
DTSTART:20210314T070000
END:DAYLIGHT
BEGIN:STANDARD
TZOFFSETFROM:-0400
TZOFFSETTO:-0500
TZNAME:EST
DTSTART:20211107T060000
END:STANDARD
BEGIN:DAYLIGHT
TZOFFSETFROM:-0500
TZOFFSETTO:-0400
TZNAME:EDT
DTSTART:20220313T070000
END:DAYLIGHT
BEGIN:STANDARD
TZOFFSETFROM:-0400
TZOFFSETTO:-0500
TZNAME:EST
DTSTART:20221106T060000
END:STANDARD
END:VTIMEZONE
BEGIN:VEVENT
DTSTART;TZID=America/New_York:20211028T140000
DTEND;TZID=America/New_York:20211028T150000
DTSTAMP:20260424T043935
CREATED:20211006T205713Z
LAST-MODIFIED:20211006T210822Z
UID:7016-1635429600-1635433200@surviveandthriveadvocacy.org
SUMMARY:Writing it Right: Documenting Human Trafficking
DESCRIPTION:Writing it Right: Documenting Human Trafficking\nPresented by: Jane Anderson\, Attorney Advisor\, AEquitas and Joseph Scaramucci\, Detective\, McLennan County Sheriff’s Office\nThursday\, October 28\, 2021 from 2 PM ET to 3:30 PM ET \n Register Today\nOne specific responsibility of law enforcement and prosecutors working on human trafficking cases is to write various reports\, affidavits\, and briefs that effectively document incidents of sex and labor trafficking. It is crucial for these documents to accurately reflect complex trafficking dynamics and case-specific facts to establish probable cause and effectively litigate issues at trial. When law enforcement and prosecutors collaborate with others\, including those with lived experience\, they are better equipped to successfully articulate how traffickers use a variety of overt and subtle tactics to exploit victims—thus establishing the element(s) of force\, fraud\, and/or coercion necessary for cases involving adult victims. \nThis presentation will focus on the core competencies needed by law enforcement and prosecutors to establish the elements of human trafficking. Additionally\, facilitators will discuss the necessity of protecting victim privacy and ensuring that public records and press releases accurately describe trafficking dynamics. In combination with other messaging done by Enhanced Collaborative Model (ECM) Task Forces to Combat Human Trafficking\, this documentation can held educate the public—and potential jurors—about the realities of trafficking.
URL:https://surviveandthriveadvocacy.org/events/writing-it-right-documenting-human-trafficking/
CATEGORIES:Justice System,Training and Awareness
END:VEVENT
END:VCALENDAR