BEGIN:VCALENDAR
VERSION:2.0
PRODID:-//Survive and Thrive - ECPv6.15.20//NONSGML v1.0//EN
CALSCALE:GREGORIAN
METHOD:PUBLISH
X-WR-CALNAME:Survive and Thrive
X-ORIGINAL-URL:https://surviveandthriveadvocacy.org
X-WR-CALDESC:Events for Survive and Thrive
REFRESH-INTERVAL;VALUE=DURATION:PT1H
X-Robots-Tag:noindex
X-PUBLISHED-TTL:PT1H
BEGIN:VTIMEZONE
TZID:America/New_York
BEGIN:DAYLIGHT
TZOFFSETFROM:-0500
TZOFFSETTO:-0400
TZNAME:EDT
DTSTART:20200308T070000
END:DAYLIGHT
BEGIN:STANDARD
TZOFFSETFROM:-0400
TZOFFSETTO:-0500
TZNAME:EST
DTSTART:20201101T060000
END:STANDARD
BEGIN:DAYLIGHT
TZOFFSETFROM:-0500
TZOFFSETTO:-0400
TZNAME:EDT
DTSTART:20210314T070000
END:DAYLIGHT
BEGIN:STANDARD
TZOFFSETFROM:-0400
TZOFFSETTO:-0500
TZNAME:EST
DTSTART:20211107T060000
END:STANDARD
BEGIN:DAYLIGHT
TZOFFSETFROM:-0500
TZOFFSETTO:-0400
TZNAME:EDT
DTSTART:20220313T070000
END:DAYLIGHT
BEGIN:STANDARD
TZOFFSETFROM:-0400
TZOFFSETTO:-0500
TZNAME:EST
DTSTART:20221106T060000
END:STANDARD
END:VTIMEZONE
BEGIN:VEVENT
DTSTART;VALUE=DATE:20211013
DTEND;VALUE=DATE:20211016
DTSTAMP:20260425T083203
CREATED:20210910T203520Z
LAST-MODIFIED:20210910T203520Z
UID:6919-1634083200-1634342399@surviveandthriveadvocacy.org
SUMMARY:2021 National Labor Trafficking Conference
DESCRIPTION:In person: Wednesday\, October 13 & Thursday\, October 14\nVirtual: Friday\, October 15\, 2021\nThe Galt House • Louisville\, KY \nDownload the flyer here. \nConference Objectives:\n• Increase capacity of organizations to address labor trafficking\n• Address trends specific to labor trafficking\n• Highlight and problem-solve challenges related to labor trafficking \nConference Workshops Include:\n• 6 Workshop Tracks: Community Response\, Typologies\, Data and Research\, Innovative Approaches\, Capacity-Building in Services\, Legal Strategies / Criminal Justice Response\n• Typologies: Begging Crews\, Agriculture\, and Illicit Activities\n• COVID-19 and the Impact on Vulnerable Workers\n• Leveraging Research and Analysis in Addressing Labor Trafficking\n• Voices of Freedom: A Collaboration between OTIP and Storycorp Exploring the Stories of Survivors and the History of the TVPA – A Labor Trafficking Focus\n• The Prevalence of Coercion in Labor Trafficking Cases \nLearn more about this event at cclou.org
URL:https://surviveandthriveadvocacy.org/events/2021-national-labor-trafficking-conference/
CATEGORIES:Training and Awareness
END:VEVENT
BEGIN:VEVENT
DTSTART;TZID=America/New_York:20211015T130000
DTEND;TZID=America/New_York:20211015T143000
DTSTAMP:20260425T083203
CREATED:20210913T185722Z
LAST-MODIFIED:20240913T193521Z
UID:6944-1634302800-1634308200@surviveandthriveadvocacy.org
SUMMARY:Imagine Freedom Events: It Takes a Village (3rd Friday BBCAHT program)
DESCRIPTION:It Takes a Village: Ending Human Trafficking in Our Community \nThis free certificate webinar one of the “Third Friday” community training events hosted by BBCAHT and STAC to inform and engage the North Florida community and beyond. We are happy to extend this invitation to friends and colleagues –  please join us! \nNo one agency\, profession\, system\, or single community can do all that is needed to end human trafficking – everyone has a role. And\, because sex and labor trafficking are so hidden and more common than people understand\, it is imperative that we all act. This program will feature a wide-ranging discussion of how to build\, fortify\, and sustain a community that opposes human trafficking\, consistently builds and sustains systems that support adult and minor human trafficking survivors\, and actively collaborates to prevent sex and labor trafficking. \nPresenters: Justin Barfield\, Development Director\, CCYS; Sheriff Walt McNeil\, Leon County Sheriff’s Office; Graciela Marquina\, MSW\, STAC Community Services Advocate; David Oliver\, Deputy Dir. Florida\, International Rescue Committee; Heidi Otway\, Pres. of SalterMitchell PR and former Chair Greater Tallahassee Chamber of Commerce; Nick Quinton\, Ph.D.\, Trinity United Methodist Church.  \nSponsors: STAC in affiliation with Big Bend Coalition Against Human Trafficking and the  International Rescue Committee.  \nContact for questions: STAC at stac@surviveandthriveadvocacy.org or 850-597-2080  \nAUDIO will be provided through your computer. \nAttendance will be limited to the first 1\,000 people who join this event. Please join early.\nClick here to register with us for this meeting or copy and paste this link into your browser: https://tinyurl.com/3drhmdcm \nIf you have technical questions or concerns\, please contact Center Support staff at\n             centersupport@usf.edu  \n  \n\n  \nSTAC needs your support to sustain these important webinars. Will you donate today? Each gift helps to bring this vital information to the many people who are empowering survivors and preventing human trafficking. The only way we can maintain these programs and this work is with YOUR help.\nSuggested donation: $20
URL:https://surviveandthriveadvocacy.org/events/imagine-freedom-events-it-takes-a-village-3rd-friday-bbcaht-program/
CATEGORIES:Imagine Freedom 2021,Training and Awareness
ATTACH;FMTTYPE=image/png:https://surviveandthriveadvocacy.org/wp-content/uploads/2021/09/Imagine-Freedom-It-Takes-a-Village-1.png
END:VEVENT
BEGIN:VEVENT
DTSTART;TZID=America/New_York:20211015T180000
DTEND;TZID=America/New_York:20211016T130000
DTSTAMP:20260425T083203
CREATED:20210901T182856Z
LAST-MODIFIED:20211007T200545Z
UID:6842-1634320800-1634389200@surviveandthriveadvocacy.org
SUMMARY:Christians Against Trafficking (CAT) Summit
DESCRIPTION:CHRISTIANS AGAINST TRAFFICKING (CAT) is a group of Christians from all denominations and backgrounds who joined together in their shared passion to see the end of human trafficking in our community. As believers\, it is our job to earnestly commit this issue to prayer. We also believe that eradicating human trafficking will take a united effort and that everyone can contribute in some way. It’s our aim and desire to engage everyone in our community and churches through strategic partnerships to join the fight against human trafficking and stop the sale of human beings. \n LEARN MORE\nCAT Summit – Download the event flyer
URL:https://surviveandthriveadvocacy.org/events/christians-against-trafficking-cat-summit/
CATEGORIES:Training and Awareness
ATTACH;FMTTYPE=image/png:https://surviveandthriveadvocacy.org/wp-content/uploads/2021/09/faith-event-oct15-16.png
END:VEVENT
END:VCALENDAR