BEGIN:VCALENDAR
VERSION:2.0
PRODID:-//Survive and Thrive - ECPv6.15.20//NONSGML v1.0//EN
CALSCALE:GREGORIAN
METHOD:PUBLISH
X-ORIGINAL-URL:https://surviveandthriveadvocacy.org
X-WR-CALDESC:Events for Survive and Thrive
REFRESH-INTERVAL;VALUE=DURATION:PT1H
X-Robots-Tag:noindex
X-PUBLISHED-TTL:PT1H
BEGIN:VTIMEZONE
TZID:America/New_York
BEGIN:DAYLIGHT
TZOFFSETFROM:-0500
TZOFFSETTO:-0400
TZNAME:EDT
DTSTART:20200308T070000
END:DAYLIGHT
BEGIN:STANDARD
TZOFFSETFROM:-0400
TZOFFSETTO:-0500
TZNAME:EST
DTSTART:20201101T060000
END:STANDARD
BEGIN:DAYLIGHT
TZOFFSETFROM:-0500
TZOFFSETTO:-0400
TZNAME:EDT
DTSTART:20210314T070000
END:DAYLIGHT
BEGIN:STANDARD
TZOFFSETFROM:-0400
TZOFFSETTO:-0500
TZNAME:EST
DTSTART:20211107T060000
END:STANDARD
BEGIN:DAYLIGHT
TZOFFSETFROM:-0500
TZOFFSETTO:-0400
TZNAME:EDT
DTSTART:20220313T070000
END:DAYLIGHT
BEGIN:STANDARD
TZOFFSETFROM:-0400
TZOFFSETTO:-0500
TZNAME:EST
DTSTART:20221106T060000
END:STANDARD
END:VTIMEZONE
BEGIN:VEVENT
DTSTART;VALUE=DATE:20211013
DTEND;VALUE=DATE:20211016
DTSTAMP:20260423T051017
CREATED:20210910T203520Z
LAST-MODIFIED:20210910T203520Z
UID:6919-1634083200-1634342399@surviveandthriveadvocacy.org
SUMMARY:2021 National Labor Trafficking Conference
DESCRIPTION:In person: Wednesday\, October 13 & Thursday\, October 14\nVirtual: Friday\, October 15\, 2021\nThe Galt House • Louisville\, KY \nDownload the flyer here. \nConference Objectives:\n• Increase capacity of organizations to address labor trafficking\n• Address trends specific to labor trafficking\n• Highlight and problem-solve challenges related to labor trafficking \nConference Workshops Include:\n• 6 Workshop Tracks: Community Response\, Typologies\, Data and Research\, Innovative Approaches\, Capacity-Building in Services\, Legal Strategies / Criminal Justice Response\n• Typologies: Begging Crews\, Agriculture\, and Illicit Activities\n• COVID-19 and the Impact on Vulnerable Workers\n• Leveraging Research and Analysis in Addressing Labor Trafficking\n• Voices of Freedom: A Collaboration between OTIP and Storycorp Exploring the Stories of Survivors and the History of the TVPA – A Labor Trafficking Focus\n• The Prevalence of Coercion in Labor Trafficking Cases \nLearn more about this event at cclou.org
URL:https://surviveandthriveadvocacy.org/events/2021-national-labor-trafficking-conference/
CATEGORIES:Training and Awareness
END:VEVENT
BEGIN:VEVENT
DTSTART;TZID=America/New_York:20211014T100000
DTEND;TZID=America/New_York:20211014T113000
DTSTAMP:20260423T051017
CREATED:20210913T183304Z
LAST-MODIFIED:20240913T193655Z
UID:6930-1634205600-1634211000@surviveandthriveadvocacy.org
SUMMARY:Imagine Freedom Events: Myths and Realities in the Big Bend
DESCRIPTION:Human Trafficking: Myths and Realities in the Big Bend \n \nLearn more\, know more\, do better. \nOctober 14th\, 10:00-11:30 am EST via Zoom \nPresenters: Courtney Atkins\, Executive Director\, Whole Child Leon\, Robin Hassler Thompson\, Executive Director\, Survive and Thrive Advocacy Center\, Cecka Rose Green\, Regional Executive Director – Big Bend Region\, Children’s Home Society of FL\, Taylor Biro\, Founding Board Member\, Capital Tea. \nDescription: There are many myths and misconceptions surrounding human trafficking. In order to stop human trafficking\, it is important to know the facts\, be able recognize the signs of trafficking\, and be confident that your actions will make a difference. This multi-media program will help non-profit service providers\, businesses\, healthcare professionals\, faith communities\, counselors\, and others understand human trafficking and know how to respond safely and effectively. Attendees will leave with a solid foundation of knowledge so they can access resources and local programs that support trafficking survivors. \n  \n\n  \nSTAC needs your support to sustain these important webinars. Will you donate today? Each gift helps to bring this vital information to the many people who are empowering survivors and preventing human trafficking. The only way we can maintain these programs and this work is with YOUR help.\nSuggested donation: $20
URL:https://surviveandthriveadvocacy.org/events/imagine-freedom-events-myths-and-realities-in-the-big-bend/
CATEGORIES:Imagine Freedom 2021,Training and Awareness
ATTACH;FMTTYPE=image/png:https://surviveandthriveadvocacy.org/wp-content/uploads/2021/09/UPHS-Human-Trafficking-Webinar-Flier-3.png
END:VEVENT
BEGIN:VEVENT
DTSTART;TZID=America/New_York:20211014T183000
DTEND;TZID=America/New_York:20211014T193000
DTSTAMP:20260423T051017
CREATED:20210913T185047Z
LAST-MODIFIED:20240913T193340Z
UID:6939-1634236200-1634239800@surviveandthriveadvocacy.org
SUMMARY:Imagine Freedom Events: ¿Qué es Trata de Personas
DESCRIPTION:14 de octubre\, 6:30 – 7:30 pm. \n¿Qué es Trata de Personas? Lo que usted necesita saber. \nPresentadoras: Vania Aguilar\, M.S.\, Program Manager\, Center for the Advancement of Human Rights\, Florida State University; Graciela Marquina\, MSW\, Victim Assistance Director\, Survive and Thrive Advocacy Center (STAC); y Margeling Santiago\, Victims’ Rights Attorney\, Legal Services of North Florida (LSNF).\n\n\nDescripción: Esta presentación se llevará a cabo en español y cubrirá información de cómo identificar la trata de personas tanto en la trata laboral como sexual.  También se hablará sobre los derechos y protección bajo la ley\, recursos\, apoyo y ayuda con tramites de inmigración. Las presentadoras darán suficiente tiempo para preguntas al final de la presentación.\n\n————————————————————\nOctober 14\, 6:30 – 7:30pm (In Spanish)\n\nHuman Trafficking: What You Need to Know\n\n Register Today\nPresenters: Vania Aguilar\, M.S.\, Program Manager\, Center for the Advancement of Human Rights\, Florida State University and Graciela Marquina\, MSW\, Victim Assistance Director\, Survive and Thrive Advocacy Center (STAC)\, Margeling Santiago\, Victims’ Rights Attorney\, (LSNF).Description: This program will be conducted in Spanish and will include information about how to recognize sex and labor trafficking\, information about the rights and remedies under the law\, resources and support\, and immigration relief. Speakers will provide ample time to take questions.\n\n\n\n\n\n\nSTAC needs your support to sustain these important webinars. Will you donate today? Each gift helps to bring this vital information to the many people who are empowering survivors and preventing human trafficking. The only way we can maintain these programs and this work is with YOUR help.\nSuggested donation: $20
URL:https://surviveandthriveadvocacy.org/events/imagine-freedom-events-que-es-trata-de-personas/
CATEGORIES:Imagine Freedom 2021,Training and Awareness
ATTACH;FMTTYPE=image/png:https://surviveandthriveadvocacy.org/wp-content/uploads/2021/09/Imagine-Freedom-What-You-Need-to-Know-En-Espanol.png
END:VEVENT
END:VCALENDAR