BEGIN:VCALENDAR
VERSION:2.0
PRODID:-//Survive and Thrive - ECPv6.15.20//NONSGML v1.0//EN
CALSCALE:GREGORIAN
METHOD:PUBLISH
X-ORIGINAL-URL:https://surviveandthriveadvocacy.org
X-WR-CALDESC:Events for Survive and Thrive
REFRESH-INTERVAL;VALUE=DURATION:PT1H
X-Robots-Tag:noindex
X-PUBLISHED-TTL:PT1H
BEGIN:VTIMEZONE
TZID:America/New_York
BEGIN:DAYLIGHT
TZOFFSETFROM:-0500
TZOFFSETTO:-0400
TZNAME:EDT
DTSTART:20200308T070000
END:DAYLIGHT
BEGIN:STANDARD
TZOFFSETFROM:-0400
TZOFFSETTO:-0500
TZNAME:EST
DTSTART:20201101T060000
END:STANDARD
BEGIN:DAYLIGHT
TZOFFSETFROM:-0500
TZOFFSETTO:-0400
TZNAME:EDT
DTSTART:20210314T070000
END:DAYLIGHT
BEGIN:STANDARD
TZOFFSETFROM:-0400
TZOFFSETTO:-0500
TZNAME:EST
DTSTART:20211107T060000
END:STANDARD
BEGIN:DAYLIGHT
TZOFFSETFROM:-0500
TZOFFSETTO:-0400
TZNAME:EDT
DTSTART:20220313T070000
END:DAYLIGHT
BEGIN:STANDARD
TZOFFSETFROM:-0400
TZOFFSETTO:-0500
TZNAME:EST
DTSTART:20221106T060000
END:STANDARD
END:VTIMEZONE
BEGIN:VEVENT
DTSTART;TZID=America/New_York:20211005T080000
DTEND;TZID=America/New_York:20211005T170000
DTSTAMP:20260425T084315
CREATED:20210512T125834Z
LAST-MODIFIED:20210903T165119Z
UID:6465-1633420800-1633453200@surviveandthriveadvocacy.org
SUMMARY:2021 Human Trafficking Summit
DESCRIPTION:Along with the Statewide Council on Human Trafficking and its partners\, Attorney General Ashley Moody is pleased to announce the 2021 Human Trafficking Summit will be held virtually on Tuesday\, October 5\, 2021. Florida’s Human Trafficking Summit brings together local\, state\, and national leaders working to eradicate all forms of trafficking. Learning opportunities created at the Human Trafficking Summit will allow Florida to continue working to protect victims\, prevent trafficking\, and prosecute traffickers. \n REGISTER TODAY\nThe 2021 Human Trafficking Summit’s webinar format is free of charge. Registration will open on July 1\, 2021.
URL:https://surviveandthriveadvocacy.org/events/2021-human-trafficking-summit/
CATEGORIES:Training and Awareness
ATTACH;FMTTYPE=image/jpeg:https://surviveandthriveadvocacy.org/wp-content/uploads/2021/05/Human-trafficking-summit.jpg
END:VEVENT
END:VCALENDAR