BEGIN:VCALENDAR
VERSION:2.0
PRODID:-//Survive and Thrive - ECPv6.15.20//NONSGML v1.0//EN
CALSCALE:GREGORIAN
METHOD:PUBLISH
X-WR-CALNAME:Survive and Thrive
X-ORIGINAL-URL:https://surviveandthriveadvocacy.org
X-WR-CALDESC:Events for Survive and Thrive
REFRESH-INTERVAL;VALUE=DURATION:PT1H
X-Robots-Tag:noindex
X-PUBLISHED-TTL:PT1H
BEGIN:VTIMEZONE
TZID:America/New_York
BEGIN:DAYLIGHT
TZOFFSETFROM:-0500
TZOFFSETTO:-0400
TZNAME:EDT
DTSTART:20220313T070000
END:DAYLIGHT
BEGIN:STANDARD
TZOFFSETFROM:-0400
TZOFFSETTO:-0500
TZNAME:EST
DTSTART:20221106T060000
END:STANDARD
BEGIN:DAYLIGHT
TZOFFSETFROM:-0500
TZOFFSETTO:-0400
TZNAME:EDT
DTSTART:20230312T070000
END:DAYLIGHT
BEGIN:STANDARD
TZOFFSETFROM:-0400
TZOFFSETTO:-0500
TZNAME:EST
DTSTART:20231105T060000
END:STANDARD
BEGIN:DAYLIGHT
TZOFFSETFROM:-0500
TZOFFSETTO:-0400
TZNAME:EDT
DTSTART:20240310T070000
END:DAYLIGHT
BEGIN:STANDARD
TZOFFSETFROM:-0400
TZOFFSETTO:-0500
TZNAME:EST
DTSTART:20241103T060000
END:STANDARD
END:VTIMEZONE
BEGIN:VEVENT
DTSTART;TZID=America/New_York:20230910T094500
DTEND;TZID=America/New_York:20230910T104500
DTSTAMP:20260422T211221
CREATED:20230827T165435Z
LAST-MODIFIED:20230827T165435Z
UID:8894-1694339100-1694342700@surviveandthriveadvocacy.org
SUMMARY:Survive and Thrive Advocacy Training
DESCRIPTION:CHEERS Sunday School is inviting us to join them in Sanders Hall on September 10th for a training presentation by Survive and Thrive Advocacy Center so that we can all be a part of ending human trafficking in our community. \nHow Do I Recognize Human Trafficking?\nThe Survive and Thrive Advocacy Center (STAC) has created an anti-human trafficking training program called STACPRO. This program is a free\, online\, on-demand training\, funded by Leon County and the City of Tallahassee\, designed specifically to empower businesses\, workplaces\, and employees with greater knowledge about how to recognize and respond if they suspect sex and labor trafficking in our area. \nBe Part of the Solution\nWith the community’s support\, STAC is building a network of people and organizations who stand with survivors and work together to prevent human trafficking. Please join us on Sunday\, September 10th at 9:45AM in Sander’s Hall for a customized in-person training session for the faith community! \nLearn more about STAC’s work to assist human trafficking survivors and empower communities with the tools to recognize\, report and prevent trafficking at www.surviveandthriveadvocacy.org \nSurvive and Thrive Advocacy Center (STAC) and/or their officers\, directors\, employees\, affiliates\, agents\, contractors\, or partners assume no legal liability or responsibility for the actions or inactions of training attendees resulting from or following this training. Each individual taking this course will take personal responsibility for their own safety and the safety of others.\nFor more information or sharing\, please download our flyer: https://www.saintpaulsumc.org/wp-content/uploads/2023/08/STACPRO-Flyer-SPUMC.pdf
URL:https://surviveandthriveadvocacy.org/events/survive-and-thrive-advocacy-training/
LOCATION:Saint Paul’s United Methodist Church\, 1700 North Meridian Road\, Tallahassee\, FL\, 32303\, United States
CATEGORIES:Labor Trafficking,Training and Awareness
ATTACH;FMTTYPE=image/png:https://surviveandthriveadvocacy.org/wp-content/uploads/2023/08/STACPRO-Flyer-Saint-Pauls-09102023-Facebook.png
END:VEVENT
BEGIN:VEVENT
DTSTART;TZID=America/New_York:20230913T150000
DTEND;TZID=America/New_York:20230913T163000
DTSTAMP:20260422T211221
CREATED:20230911T200543Z
LAST-MODIFIED:20230911T200805Z
UID:8915-1694617200-1694622600@surviveandthriveadvocacy.org
SUMMARY:Human Trafficking Webinar Series - Centering the Experience of Boys\, Young Men\, and Male Identifying Students in Human Trafficking
DESCRIPTION:Click here to Register!\nSince 2020\, the U.S. Department of Education has conducted a webinar series to address child and youth trafficking in America’s schools. The series draws attention to the important efforts underway in our nation’s education community to address both sex and labor trafficking. \nOn behalf of the U.S. Department of Education\, Office of Elementary and Secondary Education’s Office of Safe and Supportive Schools\, the National Center on Safe Supportive Learning Environments (NCSSLE) invites you to join the next webinar in this series\, Centering the Experience of Boys\, Young Men\, and Male Identifying Students in Human Trafficking. \nWednesday\, September 13\, 2023\n3:00 – 4:30 pm EDT \nBoys\, young men\, and male identifying youth are often overlooked when it comes to recognizing and preventing human trafficking. In this webinar\, we will explore how and why that is\, and how methods of supporting males can differ from females. Researchers will present data dispelling the myth that exploitation of children is a problem that only affects cisgender girls and young women\, as well as data showing that boys and male identifying youth are\, in fact\, frequently exploited and trafficked. The webinar will also include a panel discussion to better understand the experiences of male and male identifying youth who have experienced human trafficking\, featuring experts with lived experience and educators working directly with youth in school anti-trafficking programs. We will end the webinar with a live Q&A where we will respond to your questions related to centering and supporting these youth in anti-trafficking work. \nSpeakers/Panelists\n\nJose Lewis Alfaro\, Lived Experience Expert & Consultant\nJerome Elam\, President and CEO Trafficking in America Task Force\, Survivor Leader\, FL\nJodi de la Peña\, Grant Manager\, Human Trafficking Prevention\, Oakland Unified School District\, CA\nJose (Peps) Garcia\, Newcomer Safety Initiative\, Program Manager\, Oakland Unified School District\, CA\nCaroline Greig\, Anti-Trafficking Initiatives Program Director\, WestCoast Children’s Clinic\, CA\nDavid Perry\, Health Data Research Analyst\, WestCoast Children’s Clinic\, CA\n\n Click here to Register!
URL:https://surviveandthriveadvocacy.org/events/human-trafficking-webinar-series-centering-the-experience-of-boys-young-men-and-male-identifying-students-in-human-trafficking/
CATEGORIES:Children and Youth,Labor Trafficking,Training and Awareness
ATTACH;FMTTYPE=image/png:https://surviveandthriveadvocacy.org/wp-content/uploads/2023/09/human-trafficking-webinar-logo_1.png
END:VEVENT
BEGIN:VEVENT
DTSTART;TZID=America/New_York:20230915T130000
DTEND;TZID=America/New_York:20230915T143000
DTSTAMP:20260422T211221
CREATED:20230823T145102Z
LAST-MODIFIED:20240913T185027Z
UID:8888-1694782800-1694788200@surviveandthriveadvocacy.org
SUMMARY:Florida’s Expungement Laws: Helping Survivors of Human Trafficking
DESCRIPTION:Download the presentation slides \nWhen a youth or an adult victim/survivor of human trafficking is arrested – whether or not they are prosecuted – they can suffer lifelong personal and practical impacts. Trauma associated with an arrest can haunt them throughout their life. A criminal record can hurt their ability to be economically secure\, to get a job or education\, and to rebuild their lives and heal. Because these crimes happened while they were being trafficked\, Florida law provides a way to help and clear\, or “expunge\,” their criminal histories.  \nThis month’s program will explain the law on expungement\, describe the process for clearing a survivor’s criminal history\, detail the effects of expungement on a survivor’s life\, and dispel myths and misconceptions regarding expungement. If you are a professional or community member who is in actual or potential contact with sex and labor trafficking survivors or anyone who might be vulnerable\, you need to know about expungement. \nApproved by the Florida Bar for 2 CLE credit hours (Download FLBAR Approval) \nSpeaker: \nBrent Woody\nLead Attorney/Executive Director\, Justice Restoration Center \nThis free certificate webinar is one of the “Third Friday” community training events hosted by BBCAHT and STAC to inform and engage the North Florida community and beyond. We are happy to extend this invitation to friends and colleagues – please join us! \n  \nDo you have any access needs or accommodation requests that you would like STAC to know about? Contact our team at stac@surviveandthriveadvocacy.org or call 850-597-2080. \n  \n\n  \nSTAC needs your support to sustain these important webinars. Will you donate today? Each gift helps to bring this vital information to the many people who are empowering survivors and preventing human trafficking. The only way we can maintain these programs and this work is with YOUR help.\nSuggested donation: $20
URL:https://surviveandthriveadvocacy.org/events/floridas-expungement-laws-helping-survivors-of-human-trafficking-2023/
CATEGORIES:Children and Youth,Survivors,Training and Awareness
ATTACH;FMTTYPE=image/png:https://surviveandthriveadvocacy.org/wp-content/uploads/2023/08/STAC-September-2023-Training-FINAL.png
END:VEVENT
BEGIN:VEVENT
DTSTART;VALUE=DATE:20230920
DTEND;VALUE=DATE:20230923
DTSTAMP:20260422T211221
CREATED:20230601T215901Z
LAST-MODIFIED:20230601T220115Z
UID:8747-1695168000-1695427199@surviveandthriveadvocacy.org
SUMMARY:20th Annual International Human Trafficking & Social Justice Conference
DESCRIPTION:Join us for the 20th Annual International Human Trafficking & Social Justice Conference hosted virtually on September 20-22\, 2023. \n Register for the conference!\nYou don’t want to miss this one. TWENTY years strong! \nYou are invited to virtually connect with our growing community of global anti-trafficking advocates committed to social justice. This year will be our largest conference to date with 115+ live and on-demand webinars to rewatch & access for up to three weeks after the conference! \nOur virtual 3-day conference will not only include the latest information from experts in the field of human trafficking and social justice\, but will also feature virtual vendors booths\, art exhibits\, networking opportunities\, and giveaways! \nThis year will be our 20th anniversary! \nTo make this year extra special\, we will be hosting a Virtual Kick-Off Event on Tuesday\, September 19th @ 6-7 pm Eastern Time. We will also be launching our exclusive 20th anniversary t-shirt which you could have a chance to win or purchase for yourself. \n Register for the conference!
URL:https://surviveandthriveadvocacy.org/events/20-annual-international-human-trafficking-social-justice-conference/
CATEGORIES:Training and Awareness
ATTACH;FMTTYPE=image/png:https://surviveandthriveadvocacy.org/wp-content/uploads/2023/06/20th-Annual-International-Human-Trafficking-Social-Justice-Conference.png
END:VEVENT
BEGIN:VEVENT
DTSTART;TZID=America/New_York:20230920T080000
DTEND;TZID=America/New_York:20230920T170000
DTSTAMP:20260422T211221
CREATED:20230920T192810Z
LAST-MODIFIED:20230920T192810Z
UID:8983-1695196800-1695229200@surviveandthriveadvocacy.org
SUMMARY:Identifying Human Trafficking in Domestic Violence Relationships: How OTIP Letters and Certifications Can Enhance Access to Public Benefits and Services for Survivors of Trafficking and Their Children
DESCRIPTION:Identifying human trafficking within domestic violence improves victim safety and also expedites protection\, work authorization\, and victims’ access to public benefits access. This webinar will offer tips and tools to identify human trafficking by intimate partners and family members\, discuss new DHS policies on domestic violence and involuntary servitude\, and explore how survivors and their children benefit from being identified as victims of human trafficking. Expert staff from the HHS Office on Trafficking in Persons (OTIP) will discuss federal trafficking definitions\, the benefits and services foreign-born victims of sex and labor trafficking receive through OTIP certification letters and child trafficking victim eligibility letters\, and interim assistance that may be available to child trafficking victims. This webinar aims to assist professionals in promptly identifying trafficking victims\, enabling them to access state and federal public benefits and to receive case management support from OTIP. \n Register Now
URL:https://surviveandthriveadvocacy.org/events/identifying-human-trafficking-in-domestic-violence-relationships-how-otip-letters-and-certifications-can-enhance-access-to-public-benefits-and-services-for-survivors-of-trafficking-and-their-children/
CATEGORIES:Training and Awareness
END:VEVENT
BEGIN:VEVENT
DTSTART;TZID=America/New_York:20230926T150000
DTEND;TZID=America/New_York:20230926T163000
DTSTAMP:20260422T211221
CREATED:20230915T175450Z
LAST-MODIFIED:20230915T175547Z
UID:8946-1695740400-1695745800@surviveandthriveadvocacy.org
SUMMARY:Trauma Informed Services and Resources for Human Trafficking Survivors
DESCRIPTION:Join us on September 26th for a panel discussion features experienced service providers\, all working in the anti-trafficking sphere. Participants will hear from Dr. Beth Bowman\, Assistant Professor of Social Work Gallaudet University and CEO of Restoring Ivy Collective\, Liz Kimbel\, Maryland Regional Director for Restoring Ivy Collective\, Jewell Copeland\, Baltimore City Human Trafficking Regional Navigator and Center for Hope Anti-Trafficking and Exploitation Program Supervisor\, and Natalie Bishop\, Esq. Staff Attorney (Immigration and Human Trafficking Focus) for the Sexual Assault Legal Institute. \nWith the upcoming October 1st enactment of the Safe Harbor Bill\, that will protect child survivors from being prosecuted for certain crimes that are a direct result of the trafficking\, this webinar will explore each of the panelists’ professional experiences working with different populations of human trafficking survivors and discuss the resources they use and the trauma informed approaches they employ in their work. Participants will learn more about this new law and gain practical insights\, tools\, and advice they can use when working with human trafficking survivors. \n Register Now
URL:https://surviveandthriveadvocacy.org/events/trauma-informed-services-and-resources-for-human-trafficking-survivors-092623/
CATEGORIES:Training and Awareness
ATTACH;FMTTYPE=image/png:https://surviveandthriveadvocacy.org/wp-content/uploads/2023/09/Trauma-Informed-Services-and-Resources-for-Human-Trafficking-Survivors.png
END:VEVENT
END:VCALENDAR