BEGIN:VCALENDAR
VERSION:2.0
PRODID:-//Survive and Thrive - ECPv6.15.20//NONSGML v1.0//EN
CALSCALE:GREGORIAN
METHOD:PUBLISH
X-WR-CALNAME:Survive and Thrive
X-ORIGINAL-URL:https://surviveandthriveadvocacy.org
X-WR-CALDESC:Events for Survive and Thrive
REFRESH-INTERVAL;VALUE=DURATION:PT1H
X-Robots-Tag:noindex
X-PUBLISHED-TTL:PT1H
BEGIN:VTIMEZONE
TZID:America/New_York
BEGIN:DAYLIGHT
TZOFFSETFROM:-0500
TZOFFSETTO:-0400
TZNAME:EDT
DTSTART:20220313T070000
END:DAYLIGHT
BEGIN:STANDARD
TZOFFSETFROM:-0400
TZOFFSETTO:-0500
TZNAME:EST
DTSTART:20221106T060000
END:STANDARD
BEGIN:DAYLIGHT
TZOFFSETFROM:-0500
TZOFFSETTO:-0400
TZNAME:EDT
DTSTART:20230312T070000
END:DAYLIGHT
BEGIN:STANDARD
TZOFFSETFROM:-0400
TZOFFSETTO:-0500
TZNAME:EST
DTSTART:20231105T060000
END:STANDARD
BEGIN:DAYLIGHT
TZOFFSETFROM:-0500
TZOFFSETTO:-0400
TZNAME:EDT
DTSTART:20240310T070000
END:DAYLIGHT
BEGIN:STANDARD
TZOFFSETFROM:-0400
TZOFFSETTO:-0500
TZNAME:EST
DTSTART:20241103T060000
END:STANDARD
END:VTIMEZONE
BEGIN:VEVENT
DTSTART;TZID=America/New_York:20230111T150000
DTEND;TZID=America/New_York:20230111T163000
DTSTAMP:20260419T223421
CREATED:20221222T151311Z
LAST-MODIFIED:20221222T151628Z
UID:8314-1673449200-1673454600@surviveandthriveadvocacy.org
SUMMARY:The Roles of Families in Human Trafficking:  Participation\, Prevention\, and Intervention (Part 1)
DESCRIPTION:Since 2020\, the U.S. Department of Education has conducted a webinar series to address the growing response of America’s schools to child trafficking. The series draws attention to the important efforts underway in our nation’s education community to address both sex and labor trafficking. \nOn behalf of the U.S. Department of Education\, Office of Elementary and Secondary Education’s Office of Safe and Supportive Schools and in recognition of National Human Trafficking Prevention Month\, the National Center on Safe Supportive Learning Environments (NCSSLE) invites you to join a two-part miniseries focused on the roles of families in human trafficking\, including participation\, prevention\, and intervention. \nPart 1: Supporting Students Who Have Experienced \nFamilial Human Trafficking \nWednesday\, January 11\, 2023 \n3:00 – 4:30 pm EDT \nDuring the first webinar of the two-part miniseries\, you will learn about the unique needs of students who have been trafficked by a family member. Our subject matter experts\, including people with lived experience\, will provide brief presentations on the impacts of familial trafficking and through a panel discussion\, share approaches to supporting these students. \nTo register for this webinar\, go here. Please note this webinar will be archived on its event webpage here\, including a recording of the presentation\, slides\, transcript\, speaker information\, and related resources.
URL:https://surviveandthriveadvocacy.org/events/the-roles-of-families-in-human-trafficking-participation-prevention-and-intervention-part-1/
CATEGORIES:Children and Youth,Training and Awareness
END:VEVENT
END:VCALENDAR