BEGIN:VCALENDAR
VERSION:2.0
PRODID:-//Survive and Thrive - ECPv6.15.20//NONSGML v1.0//EN
CALSCALE:GREGORIAN
METHOD:PUBLISH
X-WR-CALNAME:Survive and Thrive
X-ORIGINAL-URL:https://surviveandthriveadvocacy.org
X-WR-CALDESC:Events for Survive and Thrive
REFRESH-INTERVAL;VALUE=DURATION:PT1H
X-Robots-Tag:noindex
X-PUBLISHED-TTL:PT1H
BEGIN:VTIMEZONE
TZID:America/New_York
BEGIN:DAYLIGHT
TZOFFSETFROM:-0500
TZOFFSETTO:-0400
TZNAME:EDT
DTSTART:20250309T070000
END:DAYLIGHT
BEGIN:STANDARD
TZOFFSETFROM:-0400
TZOFFSETTO:-0500
TZNAME:EST
DTSTART:20251102T060000
END:STANDARD
BEGIN:DAYLIGHT
TZOFFSETFROM:-0500
TZOFFSETTO:-0400
TZNAME:EDT
DTSTART:20260308T070000
END:DAYLIGHT
BEGIN:STANDARD
TZOFFSETFROM:-0400
TZOFFSETTO:-0500
TZNAME:EST
DTSTART:20261101T060000
END:STANDARD
BEGIN:DAYLIGHT
TZOFFSETFROM:-0500
TZOFFSETTO:-0400
TZNAME:EDT
DTSTART:20270314T070000
END:DAYLIGHT
BEGIN:STANDARD
TZOFFSETFROM:-0400
TZOFFSETTO:-0500
TZNAME:EST
DTSTART:20271107T060000
END:STANDARD
END:VTIMEZONE
BEGIN:VEVENT
DTSTART;TZID=America/New_York:20260414T113000
DTEND;TZID=America/New_York:20260414T123000
DTSTAMP:20260423T040736
CREATED:20260413T162320Z
LAST-MODIFIED:20260413T162320Z
UID:11390-1776166200-1776169800@surviveandthriveadvocacy.org
SUMMARY:Human Trafficking is Real: Do You Know What It Really Is?
DESCRIPTION:Join us for an important and eye-opening conversation on Real Talk with Judy Live Radio Show: “Human Trafficking is Real: Do You Know What It Really Is?” \nHosted by Dr. Judy Mandrell (Tampa Bay Gospel Radio Host of the Year & 2024 Praise & Worship Black History Concert Radio Host of the Year)\, this powerful discussion will feature special guests: \n\nLorie Asifor-Tuoyo\, MSN\, CHW – Community Health Worker\nRobin Hassler Thompson – Executive Director\, STAC\n\nTuesday\, April 14\, 2026 at 11:30 AM EST \nListen Live On-Air:\nTune in via Hallelujah 95.3 FM (Tallahassee’s Inspiration Station) or stream online at: \n\nwww.Hallelujah953.com\nwww.RealTalkWithJudy.com\n\nWatch LIVE on Social Media:\nWe’ll also be streaming live on Facebook and Instagram — join the conversation in real time! \n 
URL:https://surviveandthriveadvocacy.org/events/human-trafficking-is-real-do-you-know-what-it-really-is/
CATEGORIES:Training and Awareness
ATTACH;FMTTYPE=image/jpeg:https://surviveandthriveadvocacy.org/wp-content/uploads/2026/04/Human-Trafficking-is-Real-Live-Broadcast-04142026.jpg
END:VEVENT
END:VCALENDAR