BEGIN:VCALENDAR
VERSION:2.0
PRODID:-//Survive and Thrive - ECPv6.15.20//NONSGML v1.0//EN
CALSCALE:GREGORIAN
METHOD:PUBLISH
X-ORIGINAL-URL:https://surviveandthriveadvocacy.org
X-WR-CALDESC:Events for Survive and Thrive
REFRESH-INTERVAL;VALUE=DURATION:PT1H
X-Robots-Tag:noindex
X-PUBLISHED-TTL:PT1H
BEGIN:VTIMEZONE
TZID:America/New_York
BEGIN:DAYLIGHT
TZOFFSETFROM:-0500
TZOFFSETTO:-0400
TZNAME:EDT
DTSTART:20230312T070000
END:DAYLIGHT
BEGIN:STANDARD
TZOFFSETFROM:-0400
TZOFFSETTO:-0500
TZNAME:EST
DTSTART:20231105T060000
END:STANDARD
BEGIN:DAYLIGHT
TZOFFSETFROM:-0500
TZOFFSETTO:-0400
TZNAME:EDT
DTSTART:20240310T070000
END:DAYLIGHT
BEGIN:STANDARD
TZOFFSETFROM:-0400
TZOFFSETTO:-0500
TZNAME:EST
DTSTART:20241103T060000
END:STANDARD
BEGIN:DAYLIGHT
TZOFFSETFROM:-0500
TZOFFSETTO:-0400
TZNAME:EDT
DTSTART:20250309T070000
END:DAYLIGHT
BEGIN:STANDARD
TZOFFSETFROM:-0400
TZOFFSETTO:-0500
TZNAME:EST
DTSTART:20251102T060000
END:STANDARD
END:VTIMEZONE
BEGIN:VEVENT
DTSTART;TZID=America/New_York:20240612T113000
DTEND;TZID=America/New_York:20240612T133000
DTSTAMP:20260423T025403
CREATED:20240510T165023Z
LAST-MODIFIED:20240611T112013Z
UID:9530-1718191800-1718199000@surviveandthriveadvocacy.org
SUMMARY:Human Trafficking Community Conversation: Wakulla County
DESCRIPTION:Join us on Wednesday\, June 12\, for the Wakulla County “Human Trafficking Community Conversation” – a lively and informative lunchtime interactive program about human trafficking in Wakulla County at the TCC Wakulla Center. \nTCC Wakulla Center (2932 Crawfordville Hwy\, Crawfordville\, FL 32327) \nWe will:  \n\nEngage and share information and ideas using compelling artwork.\nUnderstand how to spot human trafficking in Wakulla County.\nLearn from human trafficking survivors. \nDiscover new ways of thinking about this issue and how it can impact you and your family.\nCreate our own mural and artwork.\n\nSpecial guests include:  \n\nJamie Rosseland\, Human Trafficking Subject Matter Expert\nGraciela Marquina\, MSW\, STAC Community Services Advocate\nAnd more! \n\nLunch will be provided. \n\nPlease join us and be part of the important conversation! This event is for EVERYONE in the WHOLE community: social services\, healthcare professionals\, businesses\, teachers\, students\, elected leaders and government\, professionals\, the justice system\, nonprofits\, faith communities\, parents\, grandparents and many more. \nRegistration Deadline: Monday\, June 10\, 9pm
URL:https://surviveandthriveadvocacy.org/events/community-conversation-wakulla-county/
CATEGORIES:Training and Awareness
ATTACH;FMTTYPE=image/png:https://surviveandthriveadvocacy.org/wp-content/uploads/2024/05/HTCC-Wakulla-Square.png
END:VEVENT
END:VCALENDAR