BEGIN:VCALENDAR
VERSION:2.0
PRODID:-//Survive and Thrive - ECPv6.15.20//NONSGML v1.0//EN
CALSCALE:GREGORIAN
METHOD:PUBLISH
X-ORIGINAL-URL:https://surviveandthriveadvocacy.org
X-WR-CALDESC:Events for Survive and Thrive
REFRESH-INTERVAL;VALUE=DURATION:PT1H
X-Robots-Tag:noindex
X-PUBLISHED-TTL:PT1H
BEGIN:VTIMEZONE
TZID:America/New_York
BEGIN:DAYLIGHT
TZOFFSETFROM:-0500
TZOFFSETTO:-0400
TZNAME:EDT
DTSTART:20220313T070000
END:DAYLIGHT
BEGIN:STANDARD
TZOFFSETFROM:-0400
TZOFFSETTO:-0500
TZNAME:EST
DTSTART:20221106T060000
END:STANDARD
BEGIN:DAYLIGHT
TZOFFSETFROM:-0500
TZOFFSETTO:-0400
TZNAME:EDT
DTSTART:20230312T070000
END:DAYLIGHT
BEGIN:STANDARD
TZOFFSETFROM:-0400
TZOFFSETTO:-0500
TZNAME:EST
DTSTART:20231105T060000
END:STANDARD
BEGIN:DAYLIGHT
TZOFFSETFROM:-0500
TZOFFSETTO:-0400
TZNAME:EDT
DTSTART:20240310T070000
END:DAYLIGHT
BEGIN:STANDARD
TZOFFSETFROM:-0400
TZOFFSETTO:-0500
TZNAME:EST
DTSTART:20241103T060000
END:STANDARD
END:VTIMEZONE
BEGIN:VEVENT
DTSTART;VALUE=DATE:20230101
DTEND;VALUE=DATE:20230201
DTSTAMP:20260424T130234
CREATED:20221222T191350Z
LAST-MODIFIED:20221222T191654Z
UID:8320-1672531200-1675209599@surviveandthriveadvocacy.org
SUMMARY:Race for Prevention: Human Trafficking Awareness
DESCRIPTION:There are estimated to be more than 24.9 million people – adult and children – subjected to human trafficking around the world\, including in the United States. \nThe International Rescue Committee would like to thank you for joining us in acknowledging Human Trafficking Prevention Month by participating in our virtual race! \nRace for Prevention is 100% free to participate\, but there will be an opportunity to fundraise and donate. All donations are greatly appreciated by IRC staff and used in the effort to support clients. All proceeds go toward our assistance with housing\, food\, clothing\, donations\, and more for survivors of trafficking in Florida. Please send in the funds you raise or are donating to our Venmo @ IRC-Florida (QR code in attachments)\, and please ensure that your name is in the description (EX: John Smith – Race for Awareness). Your name in the description of the Venmo must correlate to the name you registered your Strava account with. This allows us to match your funds raised to your account. Keep an eye out on social media platforms for different fundraising ideas! A winner for most funds donated will be awarded by the end of the race! \n REGISTER
URL:https://surviveandthriveadvocacy.org/events/race-for-prevention-human-trafficking-awareness/
CATEGORIES:Training and Awareness
ATTACH;FMTTYPE=image/png:https://surviveandthriveadvocacy.org/wp-content/uploads/2022/12/RFP-FLYER-2023.png
END:VEVENT
BEGIN:VEVENT
DTSTART;TZID=America/New_York:20230120T130000
DTEND;TZID=America/New_York:20230120T143000
DTSTAMP:20260424T130234
CREATED:20221219T202559Z
LAST-MODIFIED:20240913T190427Z
UID:8294-1674219600-1674225000@surviveandthriveadvocacy.org
SUMMARY:Human Trafficking in Indian Country: Understanding\, Collaborating\, and Responding
DESCRIPTION:STAC EVENT FLYER Human Trafficking in Indian Country V2 2 \n \nDescription: Historical trauma and current risk factors make Indigenous people vulnerable to many forms of victimization including labor and sex trafficking. Education and understanding of the prevalence of human trafficking among Native populations is vital. How do we build trust and work in partnership with Tribes and Tribal programs\, develop meaningful collaborations\, and work to meet the needs of Native survivors of human trafficking? What can we do to provide culturally appropriate programming? What are the linkages between human trafficking and missing or murdered Indigenous people? Presenters will explore these topics and more. \nSpeakers:\nMitzi Pope\, LCSW\, is Yuchi and an enrolled member of The Muscogee Nation and\nShira Rosenthal Phelps both work for Tribal Tech LLC and as contractors with The Human Trafficking Capacity Building Center. \nContact: Robin Hassler Thompson\, robin@surviveandthriveadvocacy.org or 850-597-2080 \n  \n\n  \nSTAC needs your support to sustain these important webinars. Will you donate today? Each gift helps to bring this vital information to the many people who are empowering survivors and preventing human trafficking. The only way we can maintain these programs and this work is with YOUR help.\nSuggested donation: $20
URL:https://surviveandthriveadvocacy.org/events/human-trafficking-in-indian-country-understanding-collaborating-and-responding/
CATEGORIES:Training and Awareness
END:VEVENT
END:VCALENDAR