BEGIN:VCALENDAR
VERSION:2.0
PRODID:-//Survive and Thrive - ECPv6.15.20//NONSGML v1.0//EN
CALSCALE:GREGORIAN
METHOD:PUBLISH
X-ORIGINAL-URL:https://surviveandthriveadvocacy.org
X-WR-CALDESC:Events for Survive and Thrive
REFRESH-INTERVAL;VALUE=DURATION:PT1H
X-Robots-Tag:noindex
X-PUBLISHED-TTL:PT1H
BEGIN:VTIMEZONE
TZID:America/New_York
BEGIN:DAYLIGHT
TZOFFSETFROM:-0500
TZOFFSETTO:-0400
TZNAME:EDT
DTSTART:20210314T070000
END:DAYLIGHT
BEGIN:STANDARD
TZOFFSETFROM:-0400
TZOFFSETTO:-0500
TZNAME:EST
DTSTART:20211107T060000
END:STANDARD
BEGIN:DAYLIGHT
TZOFFSETFROM:-0500
TZOFFSETTO:-0400
TZNAME:EDT
DTSTART:20220313T070000
END:DAYLIGHT
BEGIN:STANDARD
TZOFFSETFROM:-0400
TZOFFSETTO:-0500
TZNAME:EST
DTSTART:20221106T060000
END:STANDARD
BEGIN:DAYLIGHT
TZOFFSETFROM:-0500
TZOFFSETTO:-0400
TZNAME:EDT
DTSTART:20230312T070000
END:DAYLIGHT
BEGIN:STANDARD
TZOFFSETFROM:-0400
TZOFFSETTO:-0500
TZNAME:EST
DTSTART:20231105T060000
END:STANDARD
END:VTIMEZONE
BEGIN:VEVENT
DTSTART;TZID=America/New_York:20221027T130000
DTEND;TZID=America/New_York:20221027T140000
DTSTAMP:20260421T204144
CREATED:20221020T184824Z
LAST-MODIFIED:20221020T184824Z
UID:8127-1666875600-1666879200@surviveandthriveadvocacy.org
SUMMARY:A SANE Approach to Human Trafficking Cases
DESCRIPTION:Presented by Jane Anderson\, Attorney Advisor at AEquitas and Kim Nash\, SANE \nSexual Assault Nurse Examiners (SANEs) are invaluable collaborative partners in a prosecutor’s response to human trafficking. Victims of sex and labor trafficking are at risk of serious injury\, as well as short- and long-term physical and psychological health consequences\, and SANEs provide much-needed medical care to these patients. Trafficking investigations and prosecutions are also enhanced by the addition of SANEs to a multidisciplinary team. SANEs document injury\, collect evidence\, and provide critical insight into medical issues and survivor responses to trauma that can educate criminal justice practitioners and jurors alike. \n REGISTER
URL:https://surviveandthriveadvocacy.org/events/a-sane-approach-to-human-trafficking-cases/
CATEGORIES:Healthcare,Training and Awareness
END:VEVENT
END:VCALENDAR