BEGIN:VCALENDAR
VERSION:2.0
PRODID:-//Survive and Thrive - ECPv6.15.20//NONSGML v1.0//EN
CALSCALE:GREGORIAN
METHOD:PUBLISH
X-WR-CALNAME:Survive and Thrive
X-ORIGINAL-URL:https://surviveandthriveadvocacy.org
X-WR-CALDESC:Events for Survive and Thrive
REFRESH-INTERVAL;VALUE=DURATION:PT1H
X-Robots-Tag:noindex
X-PUBLISHED-TTL:PT1H
BEGIN:VTIMEZONE
TZID:America/New_York
BEGIN:DAYLIGHT
TZOFFSETFROM:-0500
TZOFFSETTO:-0400
TZNAME:EDT
DTSTART:20210314T070000
END:DAYLIGHT
BEGIN:STANDARD
TZOFFSETFROM:-0400
TZOFFSETTO:-0500
TZNAME:EST
DTSTART:20211107T060000
END:STANDARD
BEGIN:DAYLIGHT
TZOFFSETFROM:-0500
TZOFFSETTO:-0400
TZNAME:EDT
DTSTART:20220313T070000
END:DAYLIGHT
BEGIN:STANDARD
TZOFFSETFROM:-0400
TZOFFSETTO:-0500
TZNAME:EST
DTSTART:20221106T060000
END:STANDARD
BEGIN:DAYLIGHT
TZOFFSETFROM:-0500
TZOFFSETTO:-0400
TZNAME:EDT
DTSTART:20230312T070000
END:DAYLIGHT
BEGIN:STANDARD
TZOFFSETFROM:-0400
TZOFFSETTO:-0500
TZNAME:EST
DTSTART:20231105T060000
END:STANDARD
END:VTIMEZONE
BEGIN:VEVENT
DTSTART;TZID=America/New_York:20220817T150000
DTEND;TZID=America/New_York:20220817T163000
DTSTAMP:20260421T175658
CREATED:20220811T152753Z
LAST-MODIFIED:20220811T152753Z
UID:7876-1660748400-1660753800@surviveandthriveadvocacy.org
SUMMARY:Preventing and Intervening in the Labor Trafficking of Students
DESCRIPTION:On behalf of the U.S. Department of Education\, Office of Elementary and Secondary Education’s Office of Safe and Supportive Schools\, the National Center on Safe Supportive Learning Environments (NCSSLE) invites you to join the next webinar in this series\, Preventing and Intervening in the Labor Trafficking of Students\, scheduled for: \nWednesday\, August 17\, 2022 from 3:00-4:15pm ET/ \n REGISTER TODAY\nIn the United States\, the primary job of school-aged young people is that of student\, but this is not the case for all our young people. In 2021\, the International Labor Organization and the United Nations Children’s Fund estimated that global child labor\, including child labor trafficking\, rose from 152 million in 2016 to 160 million children in 2020 (International Labour Organization and United Nations Children’s Fund\, 2021). Child labor trafficking doesn’t just happen in other countries\, it also takes place here in the United States. Students who are forced to work long hours\, often before they can complete schoolwork\, or in dangerous jobs are less equipped to achieve in school given the trauma of their forced labor. In this webinar\, we will explore what labor trafficking looks like in the United States and talk to subject matter experts\, individuals with lived experience\, and practitioners about how you can support students who are involved in labor trafficking. \nSpeakers\n\nRuth Ryder\, Deputy Assistant Secretary\, Office of Elementary and Secondary Education\, U.S. Department of Education\nKatherine Kaufka Walts\, Director\, Center for Human Rights of Children\, Loyola University\, Chicago\, IL\nSheri Lochridge Combs\, Senior Program Manager\, Human Trafficking Special Populations\, Covenant House New Orleans\, LA\nYuri Guerrero\, Lived Experience Expert and Advocate\, TX\n\nThis webinar will be recorded and posted to the event page a day after the event. The event page link is here: https://safesupportivelearning.ed.gov/events/webinar/human-trafficking-webinar-series-preventing-and-intervening-labor-trafficking \nNCSSLE does not offer certificates or CEUs\, but if you email ncssle@air.org after the event we can confirm your participation.
URL:https://surviveandthriveadvocacy.org/events/preventing-and-intervening-in-the-labor-trafficking-of-students/
CATEGORIES:Children and Youth,Training and Awareness
END:VEVENT
END:VCALENDAR