BEGIN:VCALENDAR
VERSION:2.0
PRODID:-//Survive and Thrive - ECPv6.15.20//NONSGML v1.0//EN
CALSCALE:GREGORIAN
METHOD:PUBLISH
X-WR-CALNAME:Survive and Thrive
X-ORIGINAL-URL:https://surviveandthriveadvocacy.org
X-WR-CALDESC:Events for Survive and Thrive
REFRESH-INTERVAL;VALUE=DURATION:PT1H
X-Robots-Tag:noindex
X-PUBLISHED-TTL:PT1H
BEGIN:VTIMEZONE
TZID:America/New_York
BEGIN:DAYLIGHT
TZOFFSETFROM:-0500
TZOFFSETTO:-0400
TZNAME:EDT
DTSTART:20210314T070000
END:DAYLIGHT
BEGIN:STANDARD
TZOFFSETFROM:-0400
TZOFFSETTO:-0500
TZNAME:EST
DTSTART:20211107T060000
END:STANDARD
BEGIN:DAYLIGHT
TZOFFSETFROM:-0500
TZOFFSETTO:-0400
TZNAME:EDT
DTSTART:20220313T070000
END:DAYLIGHT
BEGIN:STANDARD
TZOFFSETFROM:-0400
TZOFFSETTO:-0500
TZNAME:EST
DTSTART:20221106T060000
END:STANDARD
BEGIN:DAYLIGHT
TZOFFSETFROM:-0500
TZOFFSETTO:-0400
TZNAME:EDT
DTSTART:20230312T070000
END:DAYLIGHT
BEGIN:STANDARD
TZOFFSETFROM:-0400
TZOFFSETTO:-0500
TZNAME:EST
DTSTART:20231105T060000
END:STANDARD
END:VTIMEZONE
BEGIN:VEVENT
DTSTART;TZID=America/New_York:20220526T140000
DTEND;TZID=America/New_York:20220526T150000
DTSTAMP:20260421T164308
CREATED:20220413T165456Z
LAST-MODIFIED:20220413T165506Z
UID:7627-1653573600-1653577200@surviveandthriveadvocacy.org
SUMMARY:Labor Trafficking Service Delivery Webinar Series: Financial Literacy by FRAMEWORK
DESCRIPTION:There are many financial goals that survivors of labor trafficking have\, such as how to improve/understand credit scores\, build savings\, acquire assets\, and support a sustainable lifestyle for themselves and family. This webinar will help providers understand the post-trafficking financial planning needs of survivors and how to reframe the field’s current approach to financial literacy to one that is more strategic\, collaborative\, and addresses systematic barriers to the economic wellbeing of survivors of labor trafficking. \nIs this webinar for me? This event is meant for providers who have existing knowledge of labor trafficking and are aware of best practices in client rapport building and support. \n Webinar Registration\nSpeaker-  Carolyne Ouya.  As a Senior Training & Technical Assistance Specialist at FUTURES Workplace & Economic Justice team\, Carolyne focuses on improving access to quality education and employment opportunities for survivors of trafficking and gender-based violence. Her primary project is the Promoting Employment Opportunities for Survivors of Trafficking Project. Prior to FUTURES\, Carolyne served as Director of Strategic Partnerships at Access Youth & Immigration Services\, one of the largest victim rights and employment services agencies in San Diego County.  Carolyne earned her undergraduate degree in Psychology & Public Health from Santa Clara University and is currently a masters in Marriage\, Family\, Therapy student at The Chicago School of Professional Psychology.
URL:https://surviveandthriveadvocacy.org/events/labor-trafficking-service-delivery-webinar-series-financial-literacy-by-framework/
CATEGORIES:Survivors
END:VEVENT
END:VCALENDAR