BEGIN:VCALENDAR
VERSION:2.0
PRODID:-//Survive and Thrive - ECPv6.15.20//NONSGML v1.0//EN
CALSCALE:GREGORIAN
METHOD:PUBLISH
X-WR-CALNAME:Survive and Thrive
X-ORIGINAL-URL:https://surviveandthriveadvocacy.org
X-WR-CALDESC:Events for Survive and Thrive
REFRESH-INTERVAL;VALUE=DURATION:PT1H
X-Robots-Tag:noindex
X-PUBLISHED-TTL:PT1H
BEGIN:VTIMEZONE
TZID:America/New_York
BEGIN:DAYLIGHT
TZOFFSETFROM:-0500
TZOFFSETTO:-0400
TZNAME:EDT
DTSTART:20200308T070000
END:DAYLIGHT
BEGIN:STANDARD
TZOFFSETFROM:-0400
TZOFFSETTO:-0500
TZNAME:EST
DTSTART:20201101T060000
END:STANDARD
BEGIN:DAYLIGHT
TZOFFSETFROM:-0500
TZOFFSETTO:-0400
TZNAME:EDT
DTSTART:20210314T070000
END:DAYLIGHT
BEGIN:STANDARD
TZOFFSETFROM:-0400
TZOFFSETTO:-0500
TZNAME:EST
DTSTART:20211107T060000
END:STANDARD
BEGIN:DAYLIGHT
TZOFFSETFROM:-0500
TZOFFSETTO:-0400
TZNAME:EDT
DTSTART:20220313T070000
END:DAYLIGHT
BEGIN:STANDARD
TZOFFSETFROM:-0400
TZOFFSETTO:-0500
TZNAME:EST
DTSTART:20221106T060000
END:STANDARD
END:VTIMEZONE
BEGIN:VEVENT
DTSTART;TZID=America/New_York:20210114T190000
DTEND;TZID=America/New_York:20210114T200000
DTSTAMP:20260422T105816
CREATED:20201230T140340Z
LAST-MODIFIED:20251022T160958Z
UID:5970-1610650800-1610654400@surviveandthriveadvocacy.org
SUMMARY:4th Annual Gadsden County Human Trafficking Community  Forum
DESCRIPTION:SOCIAL JUSTICE TABLE TALK\n\n\n\nMidway\, January 14\, 2021 | 7:00pm – 8:30pm \n \n\n\n\nLET YOUR VOICE BE HEARD\n\n\n\nSurvive and Thrive Advocacy Center invites you to join in on the 4th Annual Gadsden County Human Trafficking Community Forum\, a pivotal discussion geared toward developing social justice reform and helping survivors of human trafficking in Gadsden County. Table Talks are a series of informational community-led forums created to bring communities together to make a change. We want to hear your thoughts\, concerns\, and solutions for your County. This conversation is an opportunity to have your voice heard. Join us on January 14 from 7:00 – 8:30 pm for the 4th Annual Gadsden Count Human Trafficking Community Forum. \n\n\n\nThis is forum will allow concerned community members to come together to discuss challenges and resources in Gadsden County to bring about change. \n \n\n\n\nPastor Douglas Harris of Midway Unity Fellowship Church will lead the discussions about these topics and more\, including greater issues of social justice\, how human trafficking impacts the community and resources. \n\n\n\n\nJoin the discussion here\n\n\n\n\nWhat to expect and how to prepare: \n\n\n\nEach Table Talk will be a casual discussion\, with no preparation required: come as you are and know your thoughts and input will be valued. \n\n\n\n\nLet your voice be heard here\n\n\n\n\n  \n\n  \n\nSTAC needs your support to sustain these important webinars. Will you donate today? Each gift helps to bring this vital information to the many people who are empowering survivors and preventing human trafficking. The only way we can maintain these programs and this work is with YOUR help.\nSuggested donation: $20
URL:https://surviveandthriveadvocacy.org/events/4th-annual-gadsden-county-human-trafficking-community-forum/
ATTACH;FMTTYPE=image/png:https://surviveandthriveadvocacy.org/wp-content/uploads/2020/12/Copy-of-Social-Justice-Table-Talks-Flyer.png
END:VEVENT
END:VCALENDAR